BEGIN:VCALENDAR
VERSION:2.0
PRODID:-//eventon.com NONSGML v1.0//EN
CALSCALE:GREGORIAN
METHOD:PUBLISH
BEGIN:VEVENT
UID:69eb4b6fa27a6
DTSTAMP:20260424T105231Z
DTSTART:20260425T210400Z
DTEND:20260510T210400Z
LOCATION:
SUMMARY:Meivakantie
DESCRIPTION:Meivakantie\nhttps://paulus.unicoz.nl/events/meivakantie-7/
URL:https://paulus.unicoz.nl/events/meivakantie-7/
END:VEVENT
END:VCALENDAR