BEGIN:VCALENDAR
VERSION:2.0
PRODID:-//eventon.com NONSGML v1.0//EN
CALSCALE:GREGORIAN
METHOD:PUBLISH
BEGIN:VEVENT
UID:69eb9416d002a
DTSTAMP:20260424T160230Z
DTSTART:20260514
DTEND:20260515
LOCATION:
SUMMARY:Hemelvaart; leerlingen vrij!
DESCRIPTION:Hemelvaart; leerlingen vrij!\nhttps://paulus.unicoz.nl/events/h
 emelvaart-5/
URL:https://paulus.unicoz.nl/events/hemelvaart-5/
END:VEVENT
END:VCALENDAR