BEGIN:VCALENDAR
VERSION:2.0
PRODID:-//eventon.com NONSGML v1.0//EN
CALSCALE:GREGORIAN
METHOD:PUBLISH
BEGIN:VEVENT
UID:69eb4b7326f30
DTSTAMP:20260424T105235Z
DTSTART:20260710
DTEND:20260711
LOCATION:
SUMMARY:Groep 3-8: Rapport 2 mee
DESCRIPTION:Groep 3-8: Rapport 2 mee\nhttps://paulus.unicoz.nl/events/groep
 -3-8-rapport-2-mee/
URL:https://paulus.unicoz.nl/events/groep-3-8-rapport-2-mee/
END:VEVENT
END:VCALENDAR