BEGIN:VCALENDAR
VERSION:2.0
PRODID:-//eventon.com NONSGML v1.0//EN
CALSCALE:GREGORIAN
METHOD:PUBLISH
BEGIN:VEVENT
UID:69eb4b6f940da
DTSTAMP:20260424T105231Z
DTSTART:20260717
DTEND:20260718
LOCATION:
SUMMARY:Zomervakantie
DESCRIPTION:Zomervakantie\nhttps://paulus.unicoz.nl/events/zomervakantie-5/
URL:https://paulus.unicoz.nl/events/zomervakantie-5/
END:VEVENT
END:VCALENDAR